BEGIN:VCALENDAR
VERSION:2.0
PRODID:-//black•box beta - ECPv6.15.20//NONSGML v1.0//EN
CALSCALE:GREGORIAN
METHOD:PUBLISH
X-WR-CALNAME:black•box beta
X-ORIGINAL-URL:https://blackbox.at
X-WR-CALDESC:Veranstaltungen für black•box beta
REFRESH-INTERVAL;VALUE=DURATION:PT1H
X-Robots-Tag:noindex
X-PUBLISHED-TTL:PT1H
BEGIN:VTIMEZONE
TZID:Europe/Vienna
BEGIN:DAYLIGHT
TZOFFSETFROM:+0100
TZOFFSETTO:+0200
TZNAME:CEST
DTSTART:20250330T010000
END:DAYLIGHT
BEGIN:STANDARD
TZOFFSETFROM:+0200
TZOFFSETTO:+0100
TZNAME:CET
DTSTART:20251026T010000
END:STANDARD
BEGIN:DAYLIGHT
TZOFFSETFROM:+0100
TZOFFSETTO:+0200
TZNAME:CEST
DTSTART:20260329T010000
END:DAYLIGHT
BEGIN:STANDARD
TZOFFSETFROM:+0200
TZOFFSETTO:+0100
TZNAME:CET
DTSTART:20261025T010000
END:STANDARD
BEGIN:DAYLIGHT
TZOFFSETFROM:+0100
TZOFFSETTO:+0200
TZNAME:CEST
DTSTART:20270328T010000
END:DAYLIGHT
BEGIN:STANDARD
TZOFFSETFROM:+0200
TZOFFSETTO:+0100
TZNAME:CET
DTSTART:20271031T010000
END:STANDARD
END:VTIMEZONE
BEGIN:VEVENT
DTSTART;TZID=Europe/Vienna:20260424T170000
DTEND;TZID=Europe/Vienna:20260424T200000
DTSTAMP:20260422T105216
CREATED:20260419T182833Z
LAST-MODIFIED:20260419T182833Z
UID:10000113-1777050000-1777060800@blackbox.at
SUMMARY:Romaria 2026 - Solidaritätsweg mit Geflüchteten
DESCRIPTION:MENSCHENWURDE? – UNANTASTBAR!\nFÜR DICH\, FÜR MICH\, FÜR ALLE. \nTREFFPUNKT\n1150\, Helga Pollak Kinsky Park (hinter dem Ikea beim Westbahnhof) \nGemeinsam setzen wir ein Zeichen für eine kirchliche\, gesellschaftliche und politische Praxis\, in der die Menschenrechte und die Würde der zu uns geflüchteten Menschen geachtet werden. \nWelchen Menschen werden Menschenrechte verwehrt?\nStation 1 hinter dem Westbahnhof mit Lukas Gahleitner (Asylkoordination) \nKonkrete Erfahrungen von Geflüchteten und Expert:innen\nStation 2 im Haus Espera der Caritas \nEinstehen für Menschenrechte im 2. Weltkrieg und heute\nStation 3 im Pfarrsaal Rudolfsheim mit Figuren der „Schuttkrippe“ und Beiträgen vom Institut für Theologie und Politik \nAbschließende Agape im Pfarrsaal Rudolfsheim (15\, Meiselstr. 1) \nBitte bring für Geflüchtete im Haus Espera Freizeitkleidung für Männer mit (z.B. TShirts\, Sweater\, Jeans)
URL:https://blackbox.at/event/romaria-2026-solidaritaetsweg-mit-gefluechteten/
ATTACH;FMTTYPE=image/jpeg:https://blackbox.at/wp-content/uploads/2026/04/image-1.jpeg
END:VEVENT
BEGIN:VEVENT
DTSTART;TZID=Europe/Vienna:20260424T210000
DTEND;TZID=Europe/Vienna:20260425T050000
DTSTAMP:20260422T105216
CREATED:20260406T214901Z
LAST-MODIFIED:20260406T215011Z
UID:10000111-1777064400-1777093200@blackbox.at
SUMMARY:ICEBERG – Keine Atempause seit 1993
DESCRIPTION:Synth Pop/New Wave \n\nMunsta (Resident)\nElk (Chelsea\, Freak Out)\nMr. Momo be(t)reut unsere Visuals\n\n  \n\nIndie/Alternative \n\nO/C (Resident)\nSimOne (90ies Club)\nIndieAnna (B72)\n\n  \n\nElectroclash/Beats \n\nElvis (Resident)\nPaul Poser (Schönheitsfehler)\nBionic Kid (Waxolutionists)\n\n 
URL:https://blackbox.at/event/iceberg-keine-atempause-seit-1993/
LOCATION:Arena Wien\, Baumgasse 80\, Wien\, 1030
ATTACH;FMTTYPE=image/png:https://blackbox.at/wp-content/uploads/2026/04/20260424-facebook-titelbild-scaled.png
END:VEVENT
BEGIN:VEVENT
DTSTART;TZID=Europe/Vienna:20260426T193000
DTEND;TZID=Europe/Vienna:20260426T213000
DTSTAMP:20260422T105216
CREATED:20260420T111815Z
LAST-MODIFIED:20260420T112352Z
UID:10000114-1777231800-1777239000@blackbox.at
SUMMARY:Sitzdisko Musik-Bingo im Nelson’s Pub
DESCRIPTION:Sonntag Abend und im Fernsehen ist nix? Dann auf ein neues Sitzdisko Musik-Bingo im Nelson’s Pub\, um 19.30 Uhr geht’s los.\n\n#SitzdiskoMusikBingo #MusikBingo #BingoNight #MusicBingo #DasMusikBingo
URL:https://blackbox.at/event/sitzdisko-musik-bingo-im-nelsons-pub-3/
LOCATION:Nelson’s Pub\, Seitenstettengasse 3\, Wien\, 1010
ATTACH;FMTTYPE=image/jpeg:https://blackbox.at/wp-content/uploads/2026/04/MB_BlackBox_Nelson_4_2026-1.jpg
ORGANIZER;CN="Sitzdisko Musik-Bingo":MAILTO:office@musik-bingo.com
END:VEVENT
BEGIN:VEVENT
DTSTART;TZID=Europe/Vienna:20260427T190000
DTEND;TZID=Europe/Vienna:20260427T210000
DTSTAMP:20260422T105216
CREATED:20260402T082553Z
LAST-MODIFIED:20260420T114219Z
UID:10000108-1777316400-1777323600@blackbox.at
SUMMARY:Sitzdisko Musik-Bingo im Pointers
DESCRIPTION:Montag Abend und im Fernsehen ist nix? Dann auf ein neues Sitzdisko Musik-Bingo im Pointers\, um 19.00 Uhr geht’s los.\n\n#SitzdiskoMusikBingo #MusikBingo #BingoNight #MusicBingo #DasMusikBingo
URL:https://blackbox.at/event/sitzdisko-musik-bingo-im-pointers-2/
LOCATION:Pointers\, Resselgasse 5\, Wien\, 1050
ATTACH;FMTTYPE=image/jpeg:https://blackbox.at/wp-content/uploads/2026/04/MB_BlackBox_Pointers_4_2026.jpg
ORGANIZER;CN="Sitzdisko Musik-Bingo":MAILTO:office@musik-bingo.com
END:VEVENT
BEGIN:VEVENT
DTSTART;VALUE=DATE:20260428
DTEND;VALUE=DATE:20260430
DTSTAMP:20260422T105216
CREATED:20260329T214111Z
LAST-MODIFIED:20260329T214111Z
UID:10000103-1777334400-1777507199@blackbox.at
SUMMARY:Selber Schuld! Armutskonferenz.
DESCRIPTION:Viele Tätigkeiten\, die unsere Gesellschaft am Laufen halten\, sind schlecht bezahlt und wenig wertgeschätzt. Doch Sorgearbeit\, Kindererziehung\, Pflege und allgemeine Reproduktionsarbeit sind grundlegend für unser Arbeits- und Wirtschaftsleben. Ohne sie funktioniert keine Gesellschaft. Gleichzeitig zeigt sich: Wer erbt\, hat bessere Chancen. Status wird weniger durch Leistung erworben als vielmehr in der Geburtslotterie. Die Leistungslüge verdeckt diese Ungerechtigkeit\, indem sie Armut und Ungleichheit zu einem persönlichen Versagen erklärt. Dahinter verbirgt sich die unausgesprochene Annahme\, dass Menschen ihre Armut und ihren Reichtum schon „verdient“ haben. \nArmut bekämpfen\, nicht die Armen\nBegriffe wie „Leistung“\, „Chancen“ oder „Kompetenzen“ (Literacy) werden missbraucht\, um soziale Ungleichheit in der Gesellschaft zu rechtfertigen. Die Verantwortung für gesellschaftliche Missstände wird auf Einzelne verlagert und die „Schuld“ alleine den Betroffenen zugeschrieben. Ausgeblendet werden hingegen politische\, wirtschaftliche und soziale Rahmenbedingungen\, die Armut hervorbringen und verfestigen.\nHier setzt die Konferenz an: Sie untersucht die Mechanismen\, die Armut individualisieren und Betroffene beschämen – und sucht gemeinsam nach Lösungen. Im Mittelpunkt steht die Forderung\, Armut konsequent zu bekämpfen – und nicht die Armen. https://www.armutskonferenz.at/selber-schuld
URL:https://blackbox.at/event/selber-schuld-armutskonferenz/
LOCATION:Bildungshaus Virgil\, Salzburg
ATTACH;FMTTYPE=image/jpeg:https://blackbox.at/wp-content/uploads/2026/03/1000011507.jpg
ORGANIZER;CN="Die Armutskonferenz.":MAILTO:Office@armutskonferenz.at
END:VEVENT
BEGIN:VEVENT
DTSTART;TZID=Europe/Vienna:20260507T190000
DTEND;TZID=Europe/Vienna:20260507T210000
DTSTAMP:20260422T105216
CREATED:20260420T113928Z
LAST-MODIFIED:20260420T113928Z
UID:10000115-1778180400-1778187600@blackbox.at
SUMMARY:Sitzdisko Musik-Bingo im Mimi
DESCRIPTION:Donnerstag Abend und im Fernsehen ist nix? Dann auf ein neues Sitzdisko Musik-Bingo im Mimi im Stadtelefant\, um 19.00 Uhr geht’s los.\n\n#SitzdiskoMusikBingo #MusikBingo #BingoNight #MusicBingo #DasMusikBingo
URL:https://blackbox.at/event/sitzdisko-musik-bingo-im-mimi/
LOCATION:Mimi im Stadtelefant\, Bloch Bauer Promenade 23\, Wien\, 1100
ATTACH;FMTTYPE=image/jpeg:https://blackbox.at/wp-content/uploads/2026/04/MB_BlackBox_Mimi_5_2026.jpg
ORGANIZER;CN="Sitzdisko Musik-Bingo":MAILTO:office@musik-bingo.com
END:VEVENT
BEGIN:VEVENT
DTSTART;VALUE=DATE:20260515
DTEND;VALUE=DATE:20260803
DTSTAMP:20260422T105216
CREATED:20260217T120851Z
LAST-MODIFIED:20260217T120851Z
UID:10000018-1778803200-1785715199@blackbox.at
SUMMARY:Lehrgang: Supervision
DESCRIPTION:Dieser Lehrgang entspricht den Voraussetzungen der WKO für den Fortbildungslehrgang Supervision für Psychosoziale Berater:innen zur Eintragung in den Expert:innen-Pool (VO/2024).
URL:https://blackbox.at/event/lehrgang-supervision/
LOCATION:Akademie Kalkus\, Buchkogelgasse 8\, Graz\, 8020\, Austria
ATTACH;FMTTYPE=image/png:https://blackbox.at/wp-content/uploads/2026/02/SV-LG-2026.png
END:VEVENT
BEGIN:VEVENT
DTSTART;VALUE=DATE:20261019
DTEND;VALUE=DATE:20261027
DTSTAMP:20260422T105216
CREATED:20260323T110206Z
LAST-MODIFIED:20260326T113357Z
UID:10000099-1792368000-1793059199@blackbox.at
SUMMARY:Demokratiewoche 2026
DESCRIPTION:Eine Woche lang österreichweit die Demokratie feiern: Diskussionen\, Vorträge\, Filmvorführungen\, Theater\, Tanz\, Musik und vieles mehr! \nInfos unter buendnis2025.at
URL:https://blackbox.at/event/demokratiewoche-2026/
ATTACH;FMTTYPE=image/png:https://blackbox.at/wp-content/uploads/2026/03/Screenshot-2026-03-26-123255.png
END:VEVENT
END:VCALENDAR